BEGIN:VCALENDAR
VERSION:2.0
PRODID:-//MedievalAgenda.com - ECPv6.15.20//NONSGML v1.0//EN
CALSCALE:GREGORIAN
METHOD:PUBLISH
X-WR-CALNAME:MedievalAgenda.com
X-ORIGINAL-URL:https://medievalagenda.com
X-WR-CALDESC:Events for MedievalAgenda.com
REFRESH-INTERVAL;VALUE=DURATION:PT1H
X-Robots-Tag:noindex
X-PUBLISHED-TTL:PT1H
BEGIN:VTIMEZONE
TZID:America/New_York
BEGIN:DAYLIGHT
TZOFFSETFROM:-0500
TZOFFSETTO:-0400
TZNAME:EDT
DTSTART:20240310T070000
END:DAYLIGHT
BEGIN:STANDARD
TZOFFSETFROM:-0400
TZOFFSETTO:-0500
TZNAME:EST
DTSTART:20241103T060000
END:STANDARD
BEGIN:DAYLIGHT
TZOFFSETFROM:-0500
TZOFFSETTO:-0400
TZNAME:EDT
DTSTART:20250309T070000
END:DAYLIGHT
BEGIN:STANDARD
TZOFFSETFROM:-0400
TZOFFSETTO:-0500
TZNAME:EST
DTSTART:20251102T060000
END:STANDARD
BEGIN:DAYLIGHT
TZOFFSETFROM:-0500
TZOFFSETTO:-0400
TZNAME:EDT
DTSTART:20260308T070000
END:DAYLIGHT
BEGIN:STANDARD
TZOFFSETFROM:-0400
TZOFFSETTO:-0500
TZNAME:EST
DTSTART:20261101T060000
END:STANDARD
END:VTIMEZONE
BEGIN:VEVENT
DTSTART;VALUE=DATE:20251101
DTEND;VALUE=DATE:20251103
DTSTAMP:20260422T180844
CREATED:20251008T190847Z
LAST-MODIFIED:20251008T190847Z
UID:10000063-1761984000-1762102800@medievalagenda.com
SUMMARY:Escondido Renaissance Faire (Fall) 2025
DESCRIPTION:The Escondido Renaissance Faire (Fall) 2025 invites you to journey back to the Elizabethan Era for two weekends of magic\, history\, and revelry at Felicita County Park in Escondido\, California. Taking place October 25–26 and November 1–2\, 2025\, this beloved annual event transforms the park’s scenic groves into a bustling 16th-century village filled with knights\, pirates\, fairies\, and noble royals. \nWhether you dream of sword fights and quests\, or simply crave a good turkey leg and a pint of mead\, this faire has something for everyone. \n\n⚔️ A Living Storybook of Knights\, Pirates\, and Peasants\nThe Escondido Renaissance Faire brings the Elizabethan world to life through immersive experiences\, thrilling entertainment\, and colorful characters. From the moment you enter\, you’ll encounter guilds sharing tales of adventure\, musicians filling the air with medieval melodies\, and vendors from faraway lands offering their crafted treasures and delicious wares. \nVisitors are encouraged to dress in costume — whether as a peasant\, pirate\, or fairy — and join in the fun. Many guests even take part in the Queen’s Quest\, an interactive scavenger hunt that might just earn you the honor of knighthood. \n\n🏇 Jousts\, Battles & Spectacles of Courage\nNo Renaissance faire would be complete without the clash of steel and the roar of the crowd! The jousting tournaments are a highlight of the event\, featuring brave knights competing for royal favor and ultimate glory. Spectators can also enjoy full-contact combat reenactments involving dozens of fighters in authentic armor\, as well as archery contests and battle pageants that showcase skill\, strategy\, and sheer spectacle. \nAcross the faire’s dual stages\, entertainers perform all day long — from storytellers and dancers to comedy troupes and minstrels who keep the laughter flowing and the music lively. \n\n🍗 Feasting\, Shopping & Merriment\nBetween shows\, explore the bustling marketplace\, where artisans sell handcrafted goods including clothing\, jewelry\, weapons\, and musical instruments. Food stalls tempt visitors with turkey legs\, BBQ\, meat pies\, ice cream\, and other festival favorites\, while taverns serve beer\, ale\, mead\, and wine for those wishing to toast the Queen. \nFamilies will love the children’s areas\, filled with games\, crafts\, and activities designed to make younger visitors feel part of the kingdom. \n\n🌳 Felicita County Park: A Perfect Medieval Setting\nLocated in Escondido\, just north of San Diego\, Felicita County Park offers a picturesque natural backdrop for the faire. With its oak groves\, rolling hills\, and open meadows\, it perfectly evokes the charm of the English countryside. The park is easily accessible via Interstate 15\, making it a convenient day trip for visitors from across Southern California. \nEscondido itself is a lively city of around 150\,000 residents\, known for its wineries\, cultural festivals\, and nearby attractions like the San Diego Zoo Safari Park. \n\n⚙️ Festival Details\n📅 Dates: October 25–26 & November 1–2\, 2025\n📍 Location: Felicita County Park\, Escondido\, California\n🎭 Activities: Jousting\, live entertainment\, artisan marketplace\, food\, drink\, children’s zone\, and themed parades\n🎟️ Tickets: Available here\n👗 Costumes: Encouraged\, not required \n\n🌐 Plan Your Renaissance Getaway\nLooking for more fall medieval events? Explore upcoming festivals across the country with these guides from Medieval Agenda: \n\nRenaissance & Medieval Festivals in October 2025\nRenaissance Fairs Across the U.S.
URL:https://medievalagenda.com/event/escondido-renaissance-faire-fall-2025/2025-11-01/
LOCATION:Felicita County Park​​\, 742 Clarence Lane\, Escondido\, CA\, 92029\, United States
CATEGORIES:Renaissance Fairs
ATTACH;FMTTYPE=image/jpeg:https://medievalagenda.com/wp-content/uploads/2025/10/Escondido-Renaissance-Faire-Fall-2025.jpeg
GEO:33.0823877;-117.0842414
X-APPLE-STRUCTURED-LOCATION;VALUE=URI;X-ADDRESS=Felicita County Park​​ 742 Clarence Lane Escondido CA 92029 United States;X-APPLE-RADIUS=500;X-TITLE=742 Clarence Lane:geo:-117.0842414,33.0823877
END:VEVENT
END:VCALENDAR