BEGIN:VCALENDAR
VERSION:2.0
PRODID:-//MedievalAgenda.com - ECPv6.15.20//NONSGML v1.0//EN
CALSCALE:GREGORIAN
METHOD:PUBLISH
X-WR-CALNAME:MedievalAgenda.com
X-ORIGINAL-URL:https://medievalagenda.com
X-WR-CALDESC:Events for MedievalAgenda.com
REFRESH-INTERVAL;VALUE=DURATION:PT1H
X-Robots-Tag:noindex
X-PUBLISHED-TTL:PT1H
BEGIN:VTIMEZONE
TZID:America/New_York
BEGIN:DAYLIGHT
TZOFFSETFROM:-0500
TZOFFSETTO:-0400
TZNAME:EDT
DTSTART:20240310T070000
END:DAYLIGHT
BEGIN:STANDARD
TZOFFSETFROM:-0400
TZOFFSETTO:-0500
TZNAME:EST
DTSTART:20241103T060000
END:STANDARD
BEGIN:DAYLIGHT
TZOFFSETFROM:-0500
TZOFFSETTO:-0400
TZNAME:EDT
DTSTART:20250309T070000
END:DAYLIGHT
BEGIN:STANDARD
TZOFFSETFROM:-0400
TZOFFSETTO:-0500
TZNAME:EST
DTSTART:20251102T060000
END:STANDARD
BEGIN:DAYLIGHT
TZOFFSETFROM:-0500
TZOFFSETTO:-0400
TZNAME:EDT
DTSTART:20260308T070000
END:DAYLIGHT
BEGIN:STANDARD
TZOFFSETFROM:-0400
TZOFFSETTO:-0500
TZNAME:EST
DTSTART:20261101T060000
END:STANDARD
END:VTIMEZONE
BEGIN:VEVENT
DTSTART;TZID=America/New_York:20251004T093000
DTEND;TZID=America/New_York:20251005T173000
DTSTAMP:20260419T195144
CREATED:20250928T164531Z
LAST-MODIFIED:20250928T164531Z
UID:10000011-1759570200-1759685400@medievalagenda.com
SUMMARY:Carolina Renaissance Festival 2025
DESCRIPTION:The Carolina Renaissance Festival 2025 returns to Huntersville\, North Carolina\, running every Saturday and Sunday from October 4th through November 23rd\, 2025. Gates open daily at 9:30 a.m. and close at 5:30 p.m.\, with a lively pre-opening show starting at 9:05 a.m. Tickets are available online here. \nStep Into the Village of Fairhaven\nEach fall\, more than 230\,000 visitors step back in time to experience one of the largest Renaissance fairs in the country. The festival is set in the whimsical 16th-century village of Fairhaven\, where cobblestone-style lanes\, artisan shops\, costumed characters\, and themed architecture create a fully immersive experience. \nWith 16 outdoor stages\, nonstop performances fill the air—music\, comedy\, dance\, acrobatics\, and even circus-style theater. Every corner of Fairhaven hides a new surprise\, from jesters cracking jokes to traveling minstrels filling the streets with song. \nFestival Highlights ✨\n\nJousting Tournaments: Three times daily\, armored knights on horseback clash in the tournament arena.\nFalconry Demonstrations: Birds of prey swoop overhead in thrilling displays of skill.\nThe Mermaid Exhibit: Meet “Sea Fairies” as they swim and interact with guests in a massive tank.\nArtisan Marketplace: Over 140 booths feature handcrafted treasures like jewelry\, leatherwork\, candles\, and medieval-inspired gifts.\nFood & Drink: Feast like royalty on giant turkey legs\, savory stews\, skewered meats\, and sweet festival treats.\nGames & Activities: Try your hand at archery\, axe throwing\, or let kids enjoy interactive adventures.\n\nA Tradition Since 1994\nThe Carolina Renaissance Festival was founded in 1994 by Jeff Siegel of Royal Faires\, Ltd. What started as a celebration of medieval culture has grown into a 25-acre festival site nestled between Huntersville and Concord\, just north of Charlotte. For over three decades\, it has been a fall tradition that blends history\, fantasy\, and community spirit. \nAbout Huntersville\, NC 🏞️\nLocated in Mecklenburg County\, Huntersville is home to around 63\,000 residents and sits just north of Charlotte. The town is well-known for its proximity to Lake Norman\, North Carolina’s largest man-made lake\, making it a popular destination for both water sports and relaxation. Huntersville can be reached easily via Interstate 77\, making the festival a convenient trip from Charlotte and surrounding areas.
URL:https://medievalagenda.com/event/carolina-renaissance-festival-2025/2025-10-04/
LOCATION:Huntersville\, 16445 Poplar Tent Road\, Huntersville\, NC\, 28078\, United States
CATEGORIES:Renaissance Fairs
ATTACH;FMTTYPE=image/jpeg:https://medievalagenda.com/wp-content/uploads/2025/09/Carolina-Renaissance-Festival-2025.jpeg
GEO:35.4322533;-80.7699359
X-APPLE-STRUCTURED-LOCATION;VALUE=URI;X-ADDRESS=Huntersville 16445 Poplar Tent Road Huntersville NC 28078 United States;X-APPLE-RADIUS=500;X-TITLE=16445 Poplar Tent Road:geo:-80.7699359,35.4322533
END:VEVENT
BEGIN:VEVENT
DTSTART;TZID=America/New_York:20251011T093000
DTEND;TZID=America/New_York:20251012T173000
DTSTAMP:20260419T195144
CREATED:20250928T164531Z
LAST-MODIFIED:20250928T164531Z
UID:10000012-1760175000-1760290200@medievalagenda.com
SUMMARY:Carolina Renaissance Festival 2025
DESCRIPTION:The Carolina Renaissance Festival 2025 returns to Huntersville\, North Carolina\, running every Saturday and Sunday from October 4th through November 23rd\, 2025. Gates open daily at 9:30 a.m. and close at 5:30 p.m.\, with a lively pre-opening show starting at 9:05 a.m. Tickets are available online here. \nStep Into the Village of Fairhaven\nEach fall\, more than 230\,000 visitors step back in time to experience one of the largest Renaissance fairs in the country. The festival is set in the whimsical 16th-century village of Fairhaven\, where cobblestone-style lanes\, artisan shops\, costumed characters\, and themed architecture create a fully immersive experience. \nWith 16 outdoor stages\, nonstop performances fill the air—music\, comedy\, dance\, acrobatics\, and even circus-style theater. Every corner of Fairhaven hides a new surprise\, from jesters cracking jokes to traveling minstrels filling the streets with song. \nFestival Highlights ✨\n\nJousting Tournaments: Three times daily\, armored knights on horseback clash in the tournament arena.\nFalconry Demonstrations: Birds of prey swoop overhead in thrilling displays of skill.\nThe Mermaid Exhibit: Meet “Sea Fairies” as they swim and interact with guests in a massive tank.\nArtisan Marketplace: Over 140 booths feature handcrafted treasures like jewelry\, leatherwork\, candles\, and medieval-inspired gifts.\nFood & Drink: Feast like royalty on giant turkey legs\, savory stews\, skewered meats\, and sweet festival treats.\nGames & Activities: Try your hand at archery\, axe throwing\, or let kids enjoy interactive adventures.\n\nA Tradition Since 1994\nThe Carolina Renaissance Festival was founded in 1994 by Jeff Siegel of Royal Faires\, Ltd. What started as a celebration of medieval culture has grown into a 25-acre festival site nestled between Huntersville and Concord\, just north of Charlotte. For over three decades\, it has been a fall tradition that blends history\, fantasy\, and community spirit. \nAbout Huntersville\, NC 🏞️\nLocated in Mecklenburg County\, Huntersville is home to around 63\,000 residents and sits just north of Charlotte. The town is well-known for its proximity to Lake Norman\, North Carolina’s largest man-made lake\, making it a popular destination for both water sports and relaxation. Huntersville can be reached easily via Interstate 77\, making the festival a convenient trip from Charlotte and surrounding areas.
URL:https://medievalagenda.com/event/carolina-renaissance-festival-2025/2025-10-11/
LOCATION:Huntersville\, 16445 Poplar Tent Road\, Huntersville\, NC\, 28078\, United States
CATEGORIES:Renaissance Fairs
ATTACH;FMTTYPE=image/jpeg:https://medievalagenda.com/wp-content/uploads/2025/09/Carolina-Renaissance-Festival-2025.jpeg
GEO:35.4322533;-80.7699359
X-APPLE-STRUCTURED-LOCATION;VALUE=URI;X-ADDRESS=Huntersville 16445 Poplar Tent Road Huntersville NC 28078 United States;X-APPLE-RADIUS=500;X-TITLE=16445 Poplar Tent Road:geo:-80.7699359,35.4322533
END:VEVENT
BEGIN:VEVENT
DTSTART;TZID=America/New_York:20251018T093000
DTEND;TZID=America/New_York:20251019T173000
DTSTAMP:20260419T195144
CREATED:20250928T164531Z
LAST-MODIFIED:20250928T164531Z
UID:10000013-1760779800-1760895000@medievalagenda.com
SUMMARY:Carolina Renaissance Festival 2025
DESCRIPTION:The Carolina Renaissance Festival 2025 returns to Huntersville\, North Carolina\, running every Saturday and Sunday from October 4th through November 23rd\, 2025. Gates open daily at 9:30 a.m. and close at 5:30 p.m.\, with a lively pre-opening show starting at 9:05 a.m. Tickets are available online here. \nStep Into the Village of Fairhaven\nEach fall\, more than 230\,000 visitors step back in time to experience one of the largest Renaissance fairs in the country. The festival is set in the whimsical 16th-century village of Fairhaven\, where cobblestone-style lanes\, artisan shops\, costumed characters\, and themed architecture create a fully immersive experience. \nWith 16 outdoor stages\, nonstop performances fill the air—music\, comedy\, dance\, acrobatics\, and even circus-style theater. Every corner of Fairhaven hides a new surprise\, from jesters cracking jokes to traveling minstrels filling the streets with song. \nFestival Highlights ✨\n\nJousting Tournaments: Three times daily\, armored knights on horseback clash in the tournament arena.\nFalconry Demonstrations: Birds of prey swoop overhead in thrilling displays of skill.\nThe Mermaid Exhibit: Meet “Sea Fairies” as they swim and interact with guests in a massive tank.\nArtisan Marketplace: Over 140 booths feature handcrafted treasures like jewelry\, leatherwork\, candles\, and medieval-inspired gifts.\nFood & Drink: Feast like royalty on giant turkey legs\, savory stews\, skewered meats\, and sweet festival treats.\nGames & Activities: Try your hand at archery\, axe throwing\, or let kids enjoy interactive adventures.\n\nA Tradition Since 1994\nThe Carolina Renaissance Festival was founded in 1994 by Jeff Siegel of Royal Faires\, Ltd. What started as a celebration of medieval culture has grown into a 25-acre festival site nestled between Huntersville and Concord\, just north of Charlotte. For over three decades\, it has been a fall tradition that blends history\, fantasy\, and community spirit. \nAbout Huntersville\, NC 🏞️\nLocated in Mecklenburg County\, Huntersville is home to around 63\,000 residents and sits just north of Charlotte. The town is well-known for its proximity to Lake Norman\, North Carolina’s largest man-made lake\, making it a popular destination for both water sports and relaxation. Huntersville can be reached easily via Interstate 77\, making the festival a convenient trip from Charlotte and surrounding areas.
URL:https://medievalagenda.com/event/carolina-renaissance-festival-2025/2025-10-18/
LOCATION:Huntersville\, 16445 Poplar Tent Road\, Huntersville\, NC\, 28078\, United States
CATEGORIES:Renaissance Fairs
ATTACH;FMTTYPE=image/jpeg:https://medievalagenda.com/wp-content/uploads/2025/09/Carolina-Renaissance-Festival-2025.jpeg
GEO:35.4322533;-80.7699359
X-APPLE-STRUCTURED-LOCATION;VALUE=URI;X-ADDRESS=Huntersville 16445 Poplar Tent Road Huntersville NC 28078 United States;X-APPLE-RADIUS=500;X-TITLE=16445 Poplar Tent Road:geo:-80.7699359,35.4322533
END:VEVENT
BEGIN:VEVENT
DTSTART;TZID=America/New_York:20251025T093000
DTEND;TZID=America/New_York:20251026T173000
DTSTAMP:20260419T195144
CREATED:20250928T164531Z
LAST-MODIFIED:20250928T164531Z
UID:10000014-1761384600-1761499800@medievalagenda.com
SUMMARY:Carolina Renaissance Festival 2025
DESCRIPTION:The Carolina Renaissance Festival 2025 returns to Huntersville\, North Carolina\, running every Saturday and Sunday from October 4th through November 23rd\, 2025. Gates open daily at 9:30 a.m. and close at 5:30 p.m.\, with a lively pre-opening show starting at 9:05 a.m. Tickets are available online here. \nStep Into the Village of Fairhaven\nEach fall\, more than 230\,000 visitors step back in time to experience one of the largest Renaissance fairs in the country. The festival is set in the whimsical 16th-century village of Fairhaven\, where cobblestone-style lanes\, artisan shops\, costumed characters\, and themed architecture create a fully immersive experience. \nWith 16 outdoor stages\, nonstop performances fill the air—music\, comedy\, dance\, acrobatics\, and even circus-style theater. Every corner of Fairhaven hides a new surprise\, from jesters cracking jokes to traveling minstrels filling the streets with song. \nFestival Highlights ✨\n\nJousting Tournaments: Three times daily\, armored knights on horseback clash in the tournament arena.\nFalconry Demonstrations: Birds of prey swoop overhead in thrilling displays of skill.\nThe Mermaid Exhibit: Meet “Sea Fairies” as they swim and interact with guests in a massive tank.\nArtisan Marketplace: Over 140 booths feature handcrafted treasures like jewelry\, leatherwork\, candles\, and medieval-inspired gifts.\nFood & Drink: Feast like royalty on giant turkey legs\, savory stews\, skewered meats\, and sweet festival treats.\nGames & Activities: Try your hand at archery\, axe throwing\, or let kids enjoy interactive adventures.\n\nA Tradition Since 1994\nThe Carolina Renaissance Festival was founded in 1994 by Jeff Siegel of Royal Faires\, Ltd. What started as a celebration of medieval culture has grown into a 25-acre festival site nestled between Huntersville and Concord\, just north of Charlotte. For over three decades\, it has been a fall tradition that blends history\, fantasy\, and community spirit. \nAbout Huntersville\, NC 🏞️\nLocated in Mecklenburg County\, Huntersville is home to around 63\,000 residents and sits just north of Charlotte. The town is well-known for its proximity to Lake Norman\, North Carolina’s largest man-made lake\, making it a popular destination for both water sports and relaxation. Huntersville can be reached easily via Interstate 77\, making the festival a convenient trip from Charlotte and surrounding areas.
URL:https://medievalagenda.com/event/carolina-renaissance-festival-2025/2025-10-25/
LOCATION:Huntersville\, 16445 Poplar Tent Road\, Huntersville\, NC\, 28078\, United States
CATEGORIES:Renaissance Fairs
ATTACH;FMTTYPE=image/jpeg:https://medievalagenda.com/wp-content/uploads/2025/09/Carolina-Renaissance-Festival-2025.jpeg
GEO:35.4322533;-80.7699359
X-APPLE-STRUCTURED-LOCATION;VALUE=URI;X-ADDRESS=Huntersville 16445 Poplar Tent Road Huntersville NC 28078 United States;X-APPLE-RADIUS=500;X-TITLE=16445 Poplar Tent Road:geo:-80.7699359,35.4322533
END:VEVENT
BEGIN:VEVENT
DTSTART;VALUE=DATE:20251031
DTEND;VALUE=DATE:20251102
DTSTAMP:20260419T195144
CREATED:20251012T170841Z
LAST-MODIFIED:20251012T170841Z
UID:10000066-1761868800-1762041599@medievalagenda.com
SUMMARY:Blackbeard's Pirate Jamboree 2025
DESCRIPTION:Raise the Jolly Roger and set sail for adventure — Blackbeard’s Pirate Jamboree 2025 returns to Ocracoke Island\, North Carolina\, from October 31st to November 1st\, 2025. This lively celebration of Ocracoke’s legendary pirate history brings the Golden Age of Piracy back to life through thrilling reenactments\, music\, and maritime merriment. \nHosted at the Berkley Barn\, this annual festival transforms the Outer Banks into a 17th-century haven for buccaneers\, privateers\, and landlubbers alike. \n\n☠️ Relive the Legend of Blackbeard\nFew places can claim a pirate legacy as deep as Ocracoke Island — the final battleground of Edward Teach\, better known as Blackbeard\, who met his end off these very shores in 1718. Each year\, the island honors this notorious history with a dramatic reenactment of Blackbeard’s last battle\, complete with cannon fire\, costumed pirates\, and roaring crowds. \nVisitors can wander through a historically accurate pirate encampment\, meet the crew\, and discover the daily life of sailors\, merchants\, and rogues during the early 18th century. It’s an immersive experience that blends living history with high-seas adventure. \n\n🎶 Music\, Merriment & Maritime Fun\nThe Jamboree isn’t just for history buffs — it’s a full weekend of fun for all ages. The sound of sea shanties and maritime folk tunes fills the air\, while storytellers\, craftspeople\, and reenactors keep the spirit of the age alive. Guests can explore hands-on exhibits\, watch demonstrations\, and learn about coastal life in colonial North Carolina. \nCostumes are encouraged\, and many visitors join in the fun dressed as pirates\, wenches\, or sailors — making the entire island feel like a living film set. \n\n🌊 Discover Ocracoke Island\nNestled at the southern tip of the Outer Banks\, Ocracoke Island is a small but storied community of around 1\,000 residents — accessible only by ferry\, private boat\, or small plane. Its unspoiled beaches\, charming harbor\, and centuries-old maritime history make it the perfect setting for this nautical celebration. \nThe Berkley Barn\, located near Silver Lake Harbor\, serves as the festival’s hub — a rustic venue surrounded by shops\, docks\, and the tranquil beauty of the island’s coastal landscape. \n\n⚙️ Festival Details\n📅 Dates: October 31 – November 1\, 2025\n📍 Location: Berkley Barn\, Ocracoke Island\, North Carolina\n🎭 Activities: Pirate reenactments\, live music\, encampments\, exhibits\, and family-friendly fun\n🏴‍☠️ Theme: Blackbeard’s Final Battle\n🌊 Event Type: Living history & heritage festival \n\n🌐 Plan Your Pirate Adventure\nIf you’re a fan of Renaissance and pirate-themed festivals\, set your course for more seafaring fun with Medieval Agenda’s event guides: \n\nRenaissance & Medieval Festivals in October 2025\nRenaissance and Medieval Festivals in North Carolina
URL:https://medievalagenda.com/event/blackbeards-pirate-jamboree-2025/
LOCATION:Berkley Barn\, 58 Water Plant Rd\, Ocracoke\, NC\, 27960\, United States
CATEGORIES:Pirate Festivals
ATTACH;FMTTYPE=image/jpeg:https://medievalagenda.com/wp-content/uploads/2025/10/Blackbeards-Pirate-Jamboree-2025.jpeg
GEO:35.1162513;-75.98424
X-APPLE-STRUCTURED-LOCATION;VALUE=URI;X-ADDRESS=Berkley Barn 58 Water Plant Rd Ocracoke NC 27960 United States;X-APPLE-RADIUS=500;X-TITLE=58 Water Plant Rd:geo:-75.98424,35.1162513
END:VEVENT
END:VCALENDAR