BEGIN:VCALENDAR
VERSION:2.0
PRODID:-//MedievalAgenda.com - ECPv6.15.20//NONSGML v1.0//EN
CALSCALE:GREGORIAN
METHOD:PUBLISH
X-WR-CALNAME:MedievalAgenda.com
X-ORIGINAL-URL:https://medievalagenda.com
X-WR-CALDESC:Events for MedievalAgenda.com
REFRESH-INTERVAL;VALUE=DURATION:PT1H
X-Robots-Tag:noindex
X-PUBLISHED-TTL:PT1H
BEGIN:VTIMEZONE
TZID:America/New_York
BEGIN:DAYLIGHT
TZOFFSETFROM:-0500
TZOFFSETTO:-0400
TZNAME:EDT
DTSTART:20240310T070000
END:DAYLIGHT
BEGIN:STANDARD
TZOFFSETFROM:-0400
TZOFFSETTO:-0500
TZNAME:EST
DTSTART:20241103T060000
END:STANDARD
BEGIN:DAYLIGHT
TZOFFSETFROM:-0500
TZOFFSETTO:-0400
TZNAME:EDT
DTSTART:20250309T070000
END:DAYLIGHT
BEGIN:STANDARD
TZOFFSETFROM:-0400
TZOFFSETTO:-0500
TZNAME:EST
DTSTART:20251102T060000
END:STANDARD
BEGIN:DAYLIGHT
TZOFFSETFROM:-0500
TZOFFSETTO:-0400
TZNAME:EDT
DTSTART:20260308T070000
END:DAYLIGHT
BEGIN:STANDARD
TZOFFSETFROM:-0400
TZOFFSETTO:-0500
TZNAME:EST
DTSTART:20261101T060000
END:STANDARD
END:VTIMEZONE
BEGIN:VEVENT
DTSTART;TZID=America/New_York:20251115T093000
DTEND;TZID=America/New_York:20251116T173000
DTSTAMP:20260420T220309
CREATED:20250928T164531Z
LAST-MODIFIED:20250928T164531Z
UID:10000017-1763199000-1763314200@medievalagenda.com
SUMMARY:Carolina Renaissance Festival 2025
DESCRIPTION:The Carolina Renaissance Festival 2025 returns to Huntersville\, North Carolina\, running every Saturday and Sunday from October 4th through November 23rd\, 2025. Gates open daily at 9:30 a.m. and close at 5:30 p.m.\, with a lively pre-opening show starting at 9:05 a.m. Tickets are available online here. \nStep Into the Village of Fairhaven\nEach fall\, more than 230\,000 visitors step back in time to experience one of the largest Renaissance fairs in the country. The festival is set in the whimsical 16th-century village of Fairhaven\, where cobblestone-style lanes\, artisan shops\, costumed characters\, and themed architecture create a fully immersive experience. \nWith 16 outdoor stages\, nonstop performances fill the air—music\, comedy\, dance\, acrobatics\, and even circus-style theater. Every corner of Fairhaven hides a new surprise\, from jesters cracking jokes to traveling minstrels filling the streets with song. \nFestival Highlights ✨\n\nJousting Tournaments: Three times daily\, armored knights on horseback clash in the tournament arena.\nFalconry Demonstrations: Birds of prey swoop overhead in thrilling displays of skill.\nThe Mermaid Exhibit: Meet “Sea Fairies” as they swim and interact with guests in a massive tank.\nArtisan Marketplace: Over 140 booths feature handcrafted treasures like jewelry\, leatherwork\, candles\, and medieval-inspired gifts.\nFood & Drink: Feast like royalty on giant turkey legs\, savory stews\, skewered meats\, and sweet festival treats.\nGames & Activities: Try your hand at archery\, axe throwing\, or let kids enjoy interactive adventures.\n\nA Tradition Since 1994\nThe Carolina Renaissance Festival was founded in 1994 by Jeff Siegel of Royal Faires\, Ltd. What started as a celebration of medieval culture has grown into a 25-acre festival site nestled between Huntersville and Concord\, just north of Charlotte. For over three decades\, it has been a fall tradition that blends history\, fantasy\, and community spirit. \nAbout Huntersville\, NC 🏞️\nLocated in Mecklenburg County\, Huntersville is home to around 63\,000 residents and sits just north of Charlotte. The town is well-known for its proximity to Lake Norman\, North Carolina’s largest man-made lake\, making it a popular destination for both water sports and relaxation. Huntersville can be reached easily via Interstate 77\, making the festival a convenient trip from Charlotte and surrounding areas.
URL:https://medievalagenda.com/event/carolina-renaissance-festival-2025/2025-11-15/
LOCATION:Huntersville\, 16445 Poplar Tent Road\, Huntersville\, NC\, 28078\, United States
CATEGORIES:Renaissance Fairs
ATTACH;FMTTYPE=image/jpeg:https://medievalagenda.com/wp-content/uploads/2025/09/Carolina-Renaissance-Festival-2025.jpeg
GEO:35.4322533;-80.7699359
X-APPLE-STRUCTURED-LOCATION;VALUE=URI;X-ADDRESS=Huntersville 16445 Poplar Tent Road Huntersville NC 28078 United States;X-APPLE-RADIUS=500;X-TITLE=16445 Poplar Tent Road:geo:-80.7699359,35.4322533
END:VEVENT
END:VCALENDAR