BEGIN:VCALENDAR
VERSION:2.0
PRODID:-//MedievalAgenda.com - ECPv6.15.20//NONSGML v1.0//EN
CALSCALE:GREGORIAN
METHOD:PUBLISH
X-WR-CALNAME:MedievalAgenda.com
X-ORIGINAL-URL:https://medievalagenda.com
X-WR-CALDESC:Events for MedievalAgenda.com
REFRESH-INTERVAL;VALUE=DURATION:PT1H
X-Robots-Tag:noindex
X-PUBLISHED-TTL:PT1H
BEGIN:VTIMEZONE
TZID:America/New_York
BEGIN:DAYLIGHT
TZOFFSETFROM:-0500
TZOFFSETTO:-0400
TZNAME:EDT
DTSTART:20240310T070000
END:DAYLIGHT
BEGIN:STANDARD
TZOFFSETFROM:-0400
TZOFFSETTO:-0500
TZNAME:EST
DTSTART:20241103T060000
END:STANDARD
BEGIN:DAYLIGHT
TZOFFSETFROM:-0500
TZOFFSETTO:-0400
TZNAME:EDT
DTSTART:20250309T070000
END:DAYLIGHT
BEGIN:STANDARD
TZOFFSETFROM:-0400
TZOFFSETTO:-0500
TZNAME:EST
DTSTART:20251102T060000
END:STANDARD
BEGIN:DAYLIGHT
TZOFFSETFROM:-0500
TZOFFSETTO:-0400
TZNAME:EDT
DTSTART:20260308T070000
END:DAYLIGHT
BEGIN:STANDARD
TZOFFSETFROM:-0400
TZOFFSETTO:-0500
TZNAME:EST
DTSTART:20261101T060000
END:STANDARD
END:VTIMEZONE
BEGIN:VEVENT
DTSTART;VALUE=DATE:20251206
DTEND;VALUE=DATE:20251208
DTSTAMP:20260423T195043
CREATED:20251112T102517Z
LAST-MODIFIED:20251112T103041Z
UID:10000116-1764979200-1765151999@medievalagenda.com
SUMMARY:The Texas Viking Festival 2025
DESCRIPTION:The Texas Viking Festival 2025 will take place from December 6th to 21st at Valkyrie Ranch in Paige\, Texas\, bringing together Viking history\, music\, and Yule traditions for three festive weekends. Also known as the Texas Viking Festival and Skaldic Althing\, this event celebrates the winter solstice through a unique mix of historical reenactment\, cultural education\, and community gathering. \n🛡️ A Celebration of Nature\, Heritage & Yule\nThe festival pays tribute to the connection between humanity and nature\, inspired by ancient Norse beliefs and seasonal cycles. Throughout the event\, visitors can enjoy live combat demonstrations\, storytelling sessions\, Viking games\, and artisan workshops that showcase traditional skills such as blacksmithing and leathercraft. \nMusic and performance are at the heart of the celebration\, with folk musicians\, skalds\, and entertainers sharing ancient sagas and songs. Guests can also experience mead tastings\, traditional feasts\, and evening gatherings around the fire — creating a truly immersive and family-friendly atmosphere. \nThe Texas Viking Festival prides itself on being inclusive and welcoming to everyone\, regardless of background or identity\, ensuring that all who attend can take part in the spirit of Yule and Norse tradition. \n🔥 Valkyrie Ranch – Home of the North in the Heart of Texas\nSet on the scenic lands of Valkyrie Ranch\, the festival’s location enhances its authentic atmosphere. With wide open fields\, wooded areas\, and rustic structures\, the ranch becomes a living Viking settlement during the event. Visitors can explore longhouses\, craft markets\, and communal gathering spaces that bring Viking culture to life. \nValkyrie Ranch is located just outside Paige\, Texas\, about 45 minutes east of Austin\, and is easily accessible via Highway 290. Its natural surroundings make it an ideal venue for an outdoor winter celebration inspired by Nordic traditions. \n🍖 Mead\, Music & Merriment\nThe festival offers a wide variety of traditional foods and drinks\, including roasted meats\, stews\, and freshly baked breads. Local mead\, crafted using old recipes\, is served throughout the weekend\, adding an authentic touch to the Yule festivities. \nVisitors can also explore the Viking market\, where artisans sell handmade goods — from jewelry and leatherwork to ceremonial tools and artwork. As evening falls\, bonfires light up the grounds\, creating a festive atmosphere filled with music\, laughter\, and camaraderie. \n🌿 Paige\, Texas – A Hidden Gem of Bastrop County\nLocated in Bastrop County\, the small town of Paige is home to around 275 residents. It’s a peaceful rural community surrounded by rolling hills and forested landscapes — the perfect setting for an event that honors both heritage and nature. Paige is conveniently positioned between Austin and Houston\, making it easy to reach for a weekend getaway filled with culture and adventure. \n🕯️ Join the Viking Brotherhood This December\nWhether you’re drawn to Norse mythology\, historical reenactment\, or simply want to enjoy a unique winter celebration\, the Texas Viking Festival 2025 offers an experience unlike any other. It’s a place to learn\, connect\, and celebrate the solstice in the spirit of fellowship and tradition. \nTo discover more winter events across the U.S.\, visit Renaissance & Medieval Festivals in December 2025 and explore more Texas-based celebrations at Renaissance & Medieval Festivals in Texas .
URL:https://medievalagenda.com/event/the-texas-viking-festival-2025/2025-12-06/
LOCATION:Valkyrie Ranch\, 2030 FM 2104\, Paige\, TX\, 78659\, United States
CATEGORIES:Viking Festivals
ATTACH;FMTTYPE=image/jpeg:https://medievalagenda.com/wp-content/uploads/2025/11/The-Texas-Viking-Festival-2025.jpeg
GEO:30.1678918;-97.0965532
X-APPLE-STRUCTURED-LOCATION;VALUE=URI;X-ADDRESS=Valkyrie Ranch 2030 FM 2104 Paige TX 78659 United States;X-APPLE-RADIUS=500;X-TITLE=2030 FM 2104:geo:-97.0965532,30.1678918
END:VEVENT
BEGIN:VEVENT
DTSTART;VALUE=DATE:20251213
DTEND;VALUE=DATE:20251215
DTSTAMP:20260423T195043
CREATED:20251112T102517Z
LAST-MODIFIED:20251112T103041Z
UID:10000117-1765612800-1765731600@medievalagenda.com
SUMMARY:The Texas Viking Festival 2025
DESCRIPTION:The Texas Viking Festival 2025 will take place from December 6th to 21st at Valkyrie Ranch in Paige\, Texas\, bringing together Viking history\, music\, and Yule traditions for three festive weekends. Also known as the Texas Viking Festival and Skaldic Althing\, this event celebrates the winter solstice through a unique mix of historical reenactment\, cultural education\, and community gathering. \n🛡️ A Celebration of Nature\, Heritage & Yule\nThe festival pays tribute to the connection between humanity and nature\, inspired by ancient Norse beliefs and seasonal cycles. Throughout the event\, visitors can enjoy live combat demonstrations\, storytelling sessions\, Viking games\, and artisan workshops that showcase traditional skills such as blacksmithing and leathercraft. \nMusic and performance are at the heart of the celebration\, with folk musicians\, skalds\, and entertainers sharing ancient sagas and songs. Guests can also experience mead tastings\, traditional feasts\, and evening gatherings around the fire — creating a truly immersive and family-friendly atmosphere. \nThe Texas Viking Festival prides itself on being inclusive and welcoming to everyone\, regardless of background or identity\, ensuring that all who attend can take part in the spirit of Yule and Norse tradition. \n🔥 Valkyrie Ranch – Home of the North in the Heart of Texas\nSet on the scenic lands of Valkyrie Ranch\, the festival’s location enhances its authentic atmosphere. With wide open fields\, wooded areas\, and rustic structures\, the ranch becomes a living Viking settlement during the event. Visitors can explore longhouses\, craft markets\, and communal gathering spaces that bring Viking culture to life. \nValkyrie Ranch is located just outside Paige\, Texas\, about 45 minutes east of Austin\, and is easily accessible via Highway 290. Its natural surroundings make it an ideal venue for an outdoor winter celebration inspired by Nordic traditions. \n🍖 Mead\, Music & Merriment\nThe festival offers a wide variety of traditional foods and drinks\, including roasted meats\, stews\, and freshly baked breads. Local mead\, crafted using old recipes\, is served throughout the weekend\, adding an authentic touch to the Yule festivities. \nVisitors can also explore the Viking market\, where artisans sell handmade goods — from jewelry and leatherwork to ceremonial tools and artwork. As evening falls\, bonfires light up the grounds\, creating a festive atmosphere filled with music\, laughter\, and camaraderie. \n🌿 Paige\, Texas – A Hidden Gem of Bastrop County\nLocated in Bastrop County\, the small town of Paige is home to around 275 residents. It’s a peaceful rural community surrounded by rolling hills and forested landscapes — the perfect setting for an event that honors both heritage and nature. Paige is conveniently positioned between Austin and Houston\, making it easy to reach for a weekend getaway filled with culture and adventure. \n🕯️ Join the Viking Brotherhood This December\nWhether you’re drawn to Norse mythology\, historical reenactment\, or simply want to enjoy a unique winter celebration\, the Texas Viking Festival 2025 offers an experience unlike any other. It’s a place to learn\, connect\, and celebrate the solstice in the spirit of fellowship and tradition. \nTo discover more winter events across the U.S.\, visit Renaissance & Medieval Festivals in December 2025 and explore more Texas-based celebrations at Renaissance & Medieval Festivals in Texas .
URL:https://medievalagenda.com/event/the-texas-viking-festival-2025/2025-12-13/
LOCATION:Valkyrie Ranch\, 2030 FM 2104\, Paige\, TX\, 78659\, United States
CATEGORIES:Viking Festivals
ATTACH;FMTTYPE=image/jpeg:https://medievalagenda.com/wp-content/uploads/2025/11/The-Texas-Viking-Festival-2025.jpeg
GEO:30.1678918;-97.0965532
X-APPLE-STRUCTURED-LOCATION;VALUE=URI;X-ADDRESS=Valkyrie Ranch 2030 FM 2104 Paige TX 78659 United States;X-APPLE-RADIUS=500;X-TITLE=2030 FM 2104:geo:-97.0965532,30.1678918
END:VEVENT
BEGIN:VEVENT
DTSTART;VALUE=DATE:20251220
DTEND;VALUE=DATE:20251222
DTSTAMP:20260423T195043
CREATED:20251112T102517Z
LAST-MODIFIED:20251112T103041Z
UID:10000118-1766217600-1766336400@medievalagenda.com
SUMMARY:The Texas Viking Festival 2025
DESCRIPTION:The Texas Viking Festival 2025 will take place from December 6th to 21st at Valkyrie Ranch in Paige\, Texas\, bringing together Viking history\, music\, and Yule traditions for three festive weekends. Also known as the Texas Viking Festival and Skaldic Althing\, this event celebrates the winter solstice through a unique mix of historical reenactment\, cultural education\, and community gathering. \n🛡️ A Celebration of Nature\, Heritage & Yule\nThe festival pays tribute to the connection between humanity and nature\, inspired by ancient Norse beliefs and seasonal cycles. Throughout the event\, visitors can enjoy live combat demonstrations\, storytelling sessions\, Viking games\, and artisan workshops that showcase traditional skills such as blacksmithing and leathercraft. \nMusic and performance are at the heart of the celebration\, with folk musicians\, skalds\, and entertainers sharing ancient sagas and songs. Guests can also experience mead tastings\, traditional feasts\, and evening gatherings around the fire — creating a truly immersive and family-friendly atmosphere. \nThe Texas Viking Festival prides itself on being inclusive and welcoming to everyone\, regardless of background or identity\, ensuring that all who attend can take part in the spirit of Yule and Norse tradition. \n🔥 Valkyrie Ranch – Home of the North in the Heart of Texas\nSet on the scenic lands of Valkyrie Ranch\, the festival’s location enhances its authentic atmosphere. With wide open fields\, wooded areas\, and rustic structures\, the ranch becomes a living Viking settlement during the event. Visitors can explore longhouses\, craft markets\, and communal gathering spaces that bring Viking culture to life. \nValkyrie Ranch is located just outside Paige\, Texas\, about 45 minutes east of Austin\, and is easily accessible via Highway 290. Its natural surroundings make it an ideal venue for an outdoor winter celebration inspired by Nordic traditions. \n🍖 Mead\, Music & Merriment\nThe festival offers a wide variety of traditional foods and drinks\, including roasted meats\, stews\, and freshly baked breads. Local mead\, crafted using old recipes\, is served throughout the weekend\, adding an authentic touch to the Yule festivities. \nVisitors can also explore the Viking market\, where artisans sell handmade goods — from jewelry and leatherwork to ceremonial tools and artwork. As evening falls\, bonfires light up the grounds\, creating a festive atmosphere filled with music\, laughter\, and camaraderie. \n🌿 Paige\, Texas – A Hidden Gem of Bastrop County\nLocated in Bastrop County\, the small town of Paige is home to around 275 residents. It’s a peaceful rural community surrounded by rolling hills and forested landscapes — the perfect setting for an event that honors both heritage and nature. Paige is conveniently positioned between Austin and Houston\, making it easy to reach for a weekend getaway filled with culture and adventure. \n🕯️ Join the Viking Brotherhood This December\nWhether you’re drawn to Norse mythology\, historical reenactment\, or simply want to enjoy a unique winter celebration\, the Texas Viking Festival 2025 offers an experience unlike any other. It’s a place to learn\, connect\, and celebrate the solstice in the spirit of fellowship and tradition. \nTo discover more winter events across the U.S.\, visit Renaissance & Medieval Festivals in December 2025 and explore more Texas-based celebrations at Renaissance & Medieval Festivals in Texas .
URL:https://medievalagenda.com/event/the-texas-viking-festival-2025/2025-12-20/
LOCATION:Valkyrie Ranch\, 2030 FM 2104\, Paige\, TX\, 78659\, United States
CATEGORIES:Viking Festivals
ATTACH;FMTTYPE=image/jpeg:https://medievalagenda.com/wp-content/uploads/2025/11/The-Texas-Viking-Festival-2025.jpeg
GEO:30.1678918;-97.0965532
X-APPLE-STRUCTURED-LOCATION;VALUE=URI;X-ADDRESS=Valkyrie Ranch 2030 FM 2104 Paige TX 78659 United States;X-APPLE-RADIUS=500;X-TITLE=2030 FM 2104:geo:-97.0965532,30.1678918
END:VEVENT
END:VCALENDAR