BEGIN:VCALENDAR
VERSION:2.0
PRODID:-//MedievalAgenda.com - ECPv6.15.20//NONSGML v1.0//EN
CALSCALE:GREGORIAN
METHOD:PUBLISH
X-WR-CALNAME:MedievalAgenda.com
X-ORIGINAL-URL:https://medievalagenda.com
X-WR-CALDESC:Events for MedievalAgenda.com
REFRESH-INTERVAL;VALUE=DURATION:PT1H
X-Robots-Tag:noindex
X-PUBLISHED-TTL:PT1H
BEGIN:VTIMEZONE
TZID:America/New_York
BEGIN:DAYLIGHT
TZOFFSETFROM:-0500
TZOFFSETTO:-0400
TZNAME:EDT
DTSTART:20250309T070000
END:DAYLIGHT
BEGIN:STANDARD
TZOFFSETFROM:-0400
TZOFFSETTO:-0500
TZNAME:EST
DTSTART:20251102T060000
END:STANDARD
BEGIN:DAYLIGHT
TZOFFSETFROM:-0500
TZOFFSETTO:-0400
TZNAME:EDT
DTSTART:20260308T070000
END:DAYLIGHT
BEGIN:STANDARD
TZOFFSETFROM:-0400
TZOFFSETTO:-0500
TZNAME:EST
DTSTART:20261101T060000
END:STANDARD
BEGIN:DAYLIGHT
TZOFFSETFROM:-0500
TZOFFSETTO:-0400
TZNAME:EDT
DTSTART:20270314T070000
END:DAYLIGHT
BEGIN:STANDARD
TZOFFSETFROM:-0400
TZOFFSETTO:-0500
TZNAME:EST
DTSTART:20271107T060000
END:STANDARD
END:VTIMEZONE
BEGIN:VEVENT
DTSTART;VALUE=DATE:20260130
DTEND;VALUE=DATE:20260202
DTSTAMP:20260419T185211
CREATED:20251205T204056Z
LAST-MODIFIED:20251205T204056Z
UID:10000154-1769731200-1769990399@medievalagenda.com
SUMMARY:Two Rivers Renaissance Faire 2026
DESCRIPTION:The Two Rivers Renaissance Faire 2026 will take place from Friday\, January 30th to Sunday\, February 1st\, in Yuma\, Arizona. Prepare to step into a vibrant\, medieval-inspired world where music\, market stalls\, and mounted jousts bring history to life with flair and fun. \n\n📅 Event Schedule:\n\nFriday\, Jan 30: 10:00 AM – 5:00 PM\nSaturday\, Jan 31: 10:00 AM – 10:00 PM\nSunday\, Feb 1: 10:00 AM – 5:00 PM\n\n🎭 What to Expect:\nThis event is all about merriment\, laughter\, and medieval mischief. The faire features: \n\nLive entertainment with minstrels\, dancers\, and theatrical performers\nA lively Renaissance marketplace filled with artisans\, handcrafted wares\, and traditional food\nAnd of course\, the highlight of the weekend: the mounted jousting tournament\, where valiant knights clash in an epic display of chivalry and skill\n\nWhether you’re a Faire veteran or brand new to the scene\, there’s no shortage of wonder around every turn. \n🎟️ Tickets are available now via Eventbrite. Don’t wait until the last minute—this event draws a big crowd! \n\n📍 About Yuma\, Arizona\nYuma is a city in the southwestern corner of Arizona\, known for its sunny weather and rich history. With a population of around 97\,000\, it’s nestled between the Colorado and Gila Rivers\, making it a fitting location for an event named “Two Rivers.” \nOnce a critical crossing point for settlers heading west\, Yuma has grown into a vibrant community offering scenic desert views\, historic sites like Yuma Territorial Prison\, and plenty of cultural events throughout the year. It’s easily accessible via Interstate 8\, making it a convenient destination from both California and Arizona. \n\n🗺️ Planning Your Renaissance Road Trip?\nWhether you’re traveling from out of town or a local looking for a weekend adventure\, Yuma is well worth the trip. Plus\, you can find more Renaissance faires happening this month on the January 2026 Festival Calendar . And if Arizona is on your radar for other events\, don’t miss this list of Renaissance Faires in Arizona . \n 
URL:https://medievalagenda.com/event/two-rivers-renaissance-faire-2026/
LOCATION:Yuma County Fairgrounds\, 2520 East 32nd Street\, Yuma\, AZ\, 85365\, United States
CATEGORIES:Renaissance Fairs
ATTACH;FMTTYPE=image/jpeg:https://medievalagenda.com/wp-content/uploads/2025/12/Two-Rivers-Renaissance-Faire-2026.jpeg
GEO:32.6707935;-114.5959106
X-APPLE-STRUCTURED-LOCATION;VALUE=URI;X-ADDRESS=Yuma County Fairgrounds 2520 East 32nd Street Yuma AZ 85365 United States;X-APPLE-RADIUS=500;X-TITLE=2520 East 32nd Street:geo:-114.5959106,32.6707935
END:VEVENT
BEGIN:VEVENT
DTSTART;VALUE=DATE:20260221
DTEND;VALUE=DATE:20260223
DTSTAMP:20260419T185211
CREATED:20251209T103051Z
LAST-MODIFIED:20251209T103051Z
UID:10000155-1771632000-1771804799@medievalagenda.com
SUMMARY:Enchanted Village Renaissance Faire 2026
DESCRIPTION:Get ready to step into another realm of fantasy\, fire\, and fun at the 2nd Annual Enchanted Village Renaissance Faire\, happening February 21–22\, 2026\, in the small town of Hye\, Texas. This isn’t your average winter weekend—expect costumes\, clashing swords\, swirling dances\, and mead flowing like magic. \n🎭 What to Expect at the Faire\nThe Two Rivers Renaissance Faire transforms Hye into an immersive celebration of all things medieval and fantastical. Here’s what awaits you: \n\nLive music & dancing that will keep your toes tapping and your spirits high.\nViking battle reenactments—yes\, full-on clashing shields and war cries!\nArtisan vendors offering handcrafted wares\, perfect for collectors or curious newcomers.\nInteractive experiences\, from blacksmithing demos to spellbinding storytelling.\nFeast-worthy eats like turkey legs\, funnel cakes\, and more medieval munchies.\n\nWhether you arrive in full garb or just a warm coat\, you’re in for a weekend of timeless fun. This is a family-friendly event\, so bring the kids and let them discover the magic. \n🎟️ Get your tickets here while they’re still available! \n\n🏡 About Hye\, Texas\nTucked away in the heart of the Texas Hill Country\, Hye is a historic unincorporated community in Blanco County\, home to just a few hundred residents. It’s quiet\, rural\, and deeply Texan—perfect for a bit of time travel. \nHye’s most famous landmark is the Hye Post Office\, where President Lyndon B. Johnson once mailed his first letter. Today\, it’s a laid-back escape known for wineries\, scenic drives\, and that unmistakable Hill Country charm. \n🚗 Getting There:\nLocated off US-290\, Hye is easily accessible by car\, about 25 miles west of Johnson City and an hour and a half from Austin. Parking is typically available near event grounds. \n\n🧭 Planning Your Visit?\nDon’t forget to check out other Renaissance Faires in Texas or explore what’s happening in February 2026 across the U.S. You might just find another adventure calling your name!
URL:https://medievalagenda.com/event/enchanted-village-renaissance-faire-2026/
LOCATION:Texas Mead Works\, 8500 W Hwy 290\, Hye\, TX\, 78635\, United States
CATEGORIES:Renaissance Fairs
ATTACH;FMTTYPE=image/jpeg:https://medievalagenda.com/wp-content/uploads/2025/12/Evrenfaire-Social-Graphic-e1765274722740.jpg
GEO:30.2461324;-98.5409332
X-APPLE-STRUCTURED-LOCATION;VALUE=URI;X-ADDRESS=Texas Mead Works 8500 W Hwy 290 Hye TX 78635 United States;X-APPLE-RADIUS=500;X-TITLE=8500 W Hwy 290:geo:-98.5409332,30.2461324
END:VEVENT
END:VCALENDAR